BEGIN:VCALENDAR
VERSION:2.0
PRODID:-//wp-events-plugin.com//7.2.3.1//EN
TZID:Europe/Paris
X-WR-TIMEZONE:Europe/Paris
BEGIN:VEVENT
UID:138@morganclub.fr
DTSTART;TZID=Europe/Paris:20160522T220000
DTEND;TZID=Europe/Paris:20160523T030000
DTSTAMP:20160607T220533Z
URL:https://morganclub.fr/evenements/dark-sex-naked-party-2016-05-22/
SUMMARY:DARK SEX NAKED PARTY
DESCRIPTION:Dark Sex Naked (dans le noir total) \n\nTous Les Dimanches au M
 ORGAN.\n\n\n\nInfo 06 08 77 39 87 .\n\nVenez découvrir l'univers Hot &amp
 \; Sex du MORGAN \n\ndans le noir presque total &amp\; sous les DarkLights
 \, à poil\n\nDress Code : Nu Naked ou josktrap 
ATTACH;FMTTYPE=image/jpeg:https://morganclub.fr/wp-content/uploads/2016/05
 /12188925_865178506959173_6709286212120800589_n-1.jpg
CATEGORIES:Soirée
LOCATION:MORGAN CRUISING BAR & CLUB Nice\, 3 Rue Claudia \, Nice\, Provence
  Alpes Côte d'Azur\, 06000\, PACA\, France
GEO:43.6960355;7.265589599999998
X-APPLE-STRUCTURED-LOCATION;VALUE=URI;X-ADDRESS=3 Rue Claudia \, Nice\, Pro
 vence Alpes Côte d'Azur\, 06000\, PACA\, France;X-APPLE-RADIUS=100;X-TITL
 E=MORGAN CRUISING BAR & CLUB Nice:geo:43.6960355,7.265589599999998
END:VEVENT
BEGIN:VTIMEZONE
TZID:Europe/Paris
X-LIC-LOCATION:Europe/Paris
BEGIN:DAYLIGHT
DTSTART:20160327T030000
TZOFFSETFROM:+0100
TZOFFSETTO:+0200
TZNAME:CEST
END:DAYLIGHT
END:VTIMEZONE
END:VCALENDAR