BEGIN:VCALENDAR
VERSION:2.0
PRODID:-//wp-events-plugin.com//7.2.3.1//EN
TZID:Europe/Paris
X-WR-TIMEZONE:Europe/Paris
BEGIN:VEVENT
UID:618@morganclub.fr
DTSTART;TZID=Europe/Paris:20220414T220000
DTEND;TZID=Europe/Paris:20220415T023000
DTSTAMP:20220407T231808Z
URL:https://morganclub.fr/evenements/boxer-sex-party-3/
SUMMARY:BOXER SEX PARTY
DESCRIPTION:LE JEUDI SOIR AU MORGAN\n\nVOUS POUVEZ ENTRER EN SLIP OU EN BOX
 ER\n\nC EST LA SOIREE QUI VOUS PERMET DE  VOUS INITIER\n\nOU PAS AU NATUR
 ISME\n\nINFOS 0608773987\n\n
LOCATION:MORGAN CRUISING BAR & CLUB Nice\, 3 Rue Claudia \, Nice\, Provence
  Alpes Côte d'Azur\, 06000\, PACA\, France
GEO:43.6960355;7.265589599999998
X-APPLE-STRUCTURED-LOCATION;VALUE=URI;X-ADDRESS=3 Rue Claudia \, Nice\, Pro
 vence Alpes Côte d'Azur\, 06000\, PACA\, France;X-APPLE-RADIUS=100;X-TITL
 E=MORGAN CRUISING BAR & CLUB Nice:geo:43.6960355,7.265589599999998
END:VEVENT
BEGIN:VTIMEZONE
TZID:Europe/Paris
X-LIC-LOCATION:Europe/Paris
BEGIN:DAYLIGHT
DTSTART:20220327T030000
TZOFFSETFROM:+0100
TZOFFSETTO:+0200
TZNAME:CEST
END:DAYLIGHT
END:VTIMEZONE
END:VCALENDAR